BEGIN:VCALENDAR
VERSION:2.0
PRODID:-//FOL NC - ECPv6.15.20//NONSGML v1.0//EN
CALSCALE:GREGORIAN
METHOD:PUBLISH
X-WR-CALNAME:FOL NC
X-ORIGINAL-URL:https://fol.nc
X-WR-CALDESC:Évènements pour FOL NC
REFRESH-INTERVAL;VALUE=DURATION:PT1H
X-Robots-Tag:noindex
X-PUBLISHED-TTL:PT1H
BEGIN:VTIMEZONE
TZID:UTC
BEGIN:STANDARD
TZOFFSETFROM:+0000
TZOFFSETTO:+0000
TZNAME:UTC
DTSTART:20240101T000000
END:STANDARD
END:VTIMEZONE
BEGIN:VEVENT
DTSTART;TZID=UTC:20250401T143000
DTEND;TZID=UTC:20250403T173000
DTSTAMP:20260423T034649
CREATED:20250331T040309Z
LAST-MODIFIED:20250331T040309Z
UID:35263-1743517800-1743701400@fol.nc
SUMMARY:PERMANENCES D'INSCRIPTION VACANCES AVRIL 2025
DESCRIPTION:Trois permanences d’inscription au plus près des familles : \nmardi 1er avril : \nécole TROUILLOT (Rivière-Salée) de 15h30 à 17h30 \nécole LOMONT (St Quentin) de 14h30 à 16h \n  \njeudi 3 avril : \nécole RUSSIER (Vallée du Génie) de 15h30 à 17h30 \n  \nPour plus d’infos\, cliquez sur le lien  \nRetrouvez toutes les infos sur le programme des vacances\, cliquez sur ce lien \n  \nAu plaisir de vous retrouver dans les écoles de la Ville de Nouméa.
URL:https://fol.nc/calendrier/permanences-dinscription-vacances-avril-2025/
LOCATION:écoles TROUILLOT\, LOMONT\, RUSSIER\, Nouméa
ATTACH;FMTTYPE=image/jpeg:https://fol.nc/wp-content/uploads/2025/03/PERMANENCE-DINSCRIPTION-FOL-AVRIL-2025.jpg
END:VEVENT
END:VCALENDAR