BEGIN:VCALENDAR
VERSION:2.0
PRODID:-//FOL NC - ECPv6.15.20//NONSGML v1.0//EN
CALSCALE:GREGORIAN
METHOD:PUBLISH
X-WR-CALNAME:FOL NC
X-ORIGINAL-URL:https://fol.nc
X-WR-CALDESC:Évènements pour FOL NC
REFRESH-INTERVAL;VALUE=DURATION:PT1H
X-Robots-Tag:noindex
X-PUBLISHED-TTL:PT1H
BEGIN:VTIMEZONE
TZID:UTC
BEGIN:STANDARD
TZOFFSETFROM:+0000
TZOFFSETTO:+0000
TZNAME:UTC
DTSTART:20240101T000000
END:STANDARD
END:VTIMEZONE
BEGIN:VEVENT
DTSTART;TZID=UTC:20250407T071500
DTEND;TZID=UTC:20250418T170000
DTSTAMP:20260423T034448
CREATED:20250317T053020Z
LAST-MODIFIED:20250317T053020Z
UID:35237-1744010100-1744995600@fol.nc
SUMMARY:CENTRE DE LOISIRS VACANCES AVRIL 2025
DESCRIPTION:Nous sommes heureux d’accueillir vos enfants dans nos 3 centres de loisirs organisés à Nouméa dans les écoles suivantes : \nRUSSIER/GERVOLINO/KOCH. \nThème : “Les trésors du Pacifique” \nNouveauté : une navette pour le centre de Gervolino sur la zone Nord-Rivière Salée. \n=> Les inscriptions sont ouvertes (uniquement sur rdv pour les enfants en situation de handicap). \n=> Pour une première inscription apportez le carnet de santé de l’enfant. \n=> Aides acceptées : Bons CAFAT et Click and Mouv’. \n  \nSi vous souhaitez plus d’informations sur les centres de loisirs d’avril 2025\, cliquez sur ce lien   \n\n  \n  \n  \n  \n  \n  \n 
URL:https://fol.nc/calendrier/centre-de-loisirs-vacances-avril-2025/
LOCATION:centres de loisirs Nouméa
ATTACH;FMTTYPE=image/jpeg:https://fol.nc/wp-content/uploads/2025/03/VACANCES-FOL-AVRIL-2025.jpg
END:VEVENT
END:VCALENDAR