BEGIN:VCALENDAR
VERSION:2.0
PRODID:-//FOL NC - ECPv6.15.20//NONSGML v1.0//EN
CALSCALE:GREGORIAN
METHOD:PUBLISH
X-WR-CALNAME:FOL NC
X-ORIGINAL-URL:https://fol.nc
X-WR-CALDESC:Évènements pour FOL NC
REFRESH-INTERVAL;VALUE=DURATION:PT1H
X-Robots-Tag:noindex
X-PUBLISHED-TTL:PT1H
BEGIN:VTIMEZONE
TZID:UTC
BEGIN:STANDARD
TZOFFSETFROM:+0000
TZOFFSETTO:+0000
TZNAME:UTC
DTSTART:20240101T000000
END:STANDARD
END:VTIMEZONE
BEGIN:VEVENT
DTSTART;TZID=UTC:20250521T180000
DTEND;TZID=UTC:20250521T193000
DTSTAMP:20260423T020544
CREATED:20250520T224032Z
LAST-MODIFIED:20250520T224032Z
UID:35384-1747850400-1747855800@fol.nc
SUMMARY:PROJECTION - DEBAT
DESCRIPTION:Ciné Citoyen\, association affiliée\, organise une soirée projection – Débat en partenariat avec la FOL NC sur des enjeux de société  avec le documentaire “Hyperconnectés le cerveau en surcharge” de Laurence Serfaty. \nEntrée libre et gratuite.
URL:https://fol.nc/calendrier/projection-debat/
LOCATION:FOL KARI VEO – Centre ville Nouméa
ATTACH;FMTTYPE=application/pdf:https://fol.nc/wp-content/uploads/2025/05/1c-Affiche-Hyperconnectes-4.pdf
END:VEVENT
END:VCALENDAR