BEGIN:VCALENDAR
VERSION:2.0
PRODID:-//FOL NC - ECPv6.15.20//NONSGML v1.0//EN
CALSCALE:GREGORIAN
METHOD:PUBLISH
X-WR-CALNAME:FOL NC
X-ORIGINAL-URL:https://fol.nc
X-WR-CALDESC:Évènements pour FOL NC
REFRESH-INTERVAL;VALUE=DURATION:PT1H
X-Robots-Tag:noindex
X-PUBLISHED-TTL:PT1H
BEGIN:VTIMEZONE
TZID:UTC
BEGIN:STANDARD
TZOFFSETFROM:+0000
TZOFFSETTO:+0000
TZNAME:UTC
DTSTART:20240101T000000
END:STANDARD
END:VTIMEZONE
BEGIN:VEVENT
DTSTART;TZID=UTC:20250621T090000
DTEND;TZID=UTC:20250621T120000
DTSTAMP:20260423T001955
CREATED:20250619T213711Z
LAST-MODIFIED:20250619T213843Z
UID:35416-1750496400-1750507200@fol.nc
SUMMARY:FETE DE LA MUSIQUE PETITE ENFANCE
DESCRIPTION:𝐅𝐞̂𝐭𝐞 𝐝𝐞 𝐥𝐚 𝐦𝐮𝐬𝐢𝐪𝐮𝐞 𝐬𝐩𝐞́𝐜𝐢𝐚𝐥𝐞 𝐩𝐞𝐭𝐢𝐭𝐞 𝐞𝐧𝐟𝐚𝐧𝐜𝐞]\n\n\n𝑸𝒖𝒂𝒏𝒅 ? Samedi 21 juin\, de 9h à 12h\n𝗢𝘂̀ ? à la FOL NC-Kari Veo / 51\, rue du Pasteur Ariège\, Nouméa\n\n\n𝗢𝗿𝗴𝗮𝗻𝗶𝘀𝗮𝘁𝗲𝘂𝗿 FNEJE Nouvelle-Calédonie\n𝗣𝗮𝗿𝘁𝗲𝗻𝗮𝗿𝗶𝗮𝘁 FOL- NC\n\n\n\n𝗔𝗨 𝗣𝗥𝗢𝗚𝗥𝗔𝗠𝗠𝗘 𝗱𝗲 𝗹𝗮 𝗺𝗮𝘁𝗶𝗻𝗲́𝗲 :\n>𝑷𝙞𝒆𝙧𝒓𝙤 pour des compositions musicales\n>𝙋𝒉𝙞𝒍𝙞𝒑𝙥𝒆 pour des comptines à la guitare\n>𝙅𝒐𝙮 pour des comptines et chants du monde\n>𝙇’𝙚𝙣𝙨𝙚𝙢𝙗𝙡𝙚 𝙙𝙚𝙨 𝙥𝙚𝙩𝙞𝙩𝙨 𝙫𝙞𝙤𝙡𝙤𝙣𝙞𝙨𝙩𝙚𝙨 & 𝙚́𝙡𝙚̀𝙫𝙚𝙨 𝙙𝙪 Conservatoire\n>𝑷𝙖𝒖𝙡𝒊𝙣𝒆 pour un karaoké des chansons de Disney\n>𝘼𝒕𝙚𝒍𝙞𝒆𝙧𝒔 𝒄𝙤𝒎𝙥𝒕𝙞𝒏𝙚𝒔 avec les éducatrices\n>𝙀𝒔𝙥𝒂𝙘𝒆 𝒅𝙚́𝒄𝙤𝒖𝙫𝒆𝙧𝒕𝙚 𝙙𝒆𝙨 𝙨𝒐𝙣𝒔\n>𝘾𝒂𝙛𝒆́ 𝒅𝙚𝒔 𝒑𝙖𝒓𝙚𝒏𝙩𝒔\n>𝙀𝙨𝒑𝙖𝒄𝙚 𝙡𝒖𝙙𝒐𝙩𝒉𝙚̀𝒒𝙪𝒆.\n\n\nEntrée et participation libre.\nAteliers places limitées.\n\n\n\nPlus d’infos sur le programme : https://fol.nc/wp-content/uploads/2025/06/programme.jpg
URL:https://fol.nc/calendrier/fete-de-la-musique-petite-enfance/
LOCATION:Fédération des Oeuvres Laiques – KARI VEO
ATTACH;FMTTYPE=image/jpeg:https://fol.nc/wp-content/uploads/2025/06/506978774_1139981104814327_4706360443332016011_n.jpg
END:VEVENT
END:VCALENDAR