BEGIN:VCALENDAR
VERSION:2.0
PRODID:-//FOL NC - ECPv6.15.20//NONSGML v1.0//EN
CALSCALE:GREGORIAN
METHOD:PUBLISH
X-WR-CALNAME:FOL NC
X-ORIGINAL-URL:https://fol.nc
X-WR-CALDESC:Évènements pour FOL NC
REFRESH-INTERVAL;VALUE=DURATION:PT1H
X-Robots-Tag:noindex
X-PUBLISHED-TTL:PT1H
BEGIN:VTIMEZONE
TZID:UTC
BEGIN:STANDARD
TZOFFSETFROM:+0000
TZOFFSETTO:+0000
TZNAME:UTC
DTSTART:20240101T000000
END:STANDARD
END:VTIMEZONE
BEGIN:VEVENT
DTSTART;TZID=UTC:20250628T080000
DTEND;TZID=UTC:20250628T120000
DTSTAMP:20260423T001556
CREATED:20250623T235152Z
LAST-MODIFIED:20250623T235152Z
UID:35426-1751097600-1751112000@fol.nc
SUMMARY:Repair Café : Jeter ? Pas question
DESCRIPTION:En partenariat avec la FOL NC\, l’association Repair Café s’installera dans le forum afin de vous apprendre à réparer des objets du quotidien. \nPourquoi vient-on au Repair Café du 28 juin ? \nParce qu’on veut éviter des déchets\, qu’on est simplement très attaché à un objet. Ou qu’on a envie de faire bénéficier de ses compétences de réparateur pour faire un geste solidaire pour la planète. \nAvez-vous aussi un objet irremplaçable cassé ? \nPassez alors au Repair Café ! \nFB : https://www.facebook.com/repaircafenouvellecaledonie \n=> Entrée libre et gratuite.
URL:https://fol.nc/calendrier/repair-cafe-jeter-pas-question/
LOCATION:Fédération des Oeuvres Laiques – KARI VEO
ATTACH;FMTTYPE=image/jpeg:https://fol.nc/wp-content/uploads/2025/06/repair-cafe-28-juin.jpg
END:VEVENT
END:VCALENDAR