BEGIN:VCALENDAR
VERSION:2.0
PRODID:-//FOL NC - ECPv6.15.20//NONSGML v1.0//EN
CALSCALE:GREGORIAN
METHOD:PUBLISH
X-WR-CALNAME:FOL NC
X-ORIGINAL-URL:https://fol.nc
X-WR-CALDESC:Évènements pour FOL NC
REFRESH-INTERVAL;VALUE=DURATION:PT1H
X-Robots-Tag:noindex
X-PUBLISHED-TTL:PT1H
BEGIN:VTIMEZONE
TZID:UTC
BEGIN:STANDARD
TZOFFSETFROM:+0000
TZOFFSETTO:+0000
TZNAME:UTC
DTSTART:20240101T000000
END:STANDARD
END:VTIMEZONE
BEGIN:VEVENT
DTSTART;TZID=UTC:20250709T083000
DTEND;TZID=UTC:20250724T120000
DTSTAMP:20260422T225542
CREATED:20250708T035442Z
LAST-MODIFIED:20250708T035714Z
UID:35467-1752049800-1753358400@fol.nc
SUMMARY:PERMANENCES D'INFORMATIONS AVEC "PROXI SERVICES"
DESCRIPTION:En JUILLET\, la FOL vient à votre rencontre lors des permanences d’informations « PROXI SERVICES » organisées par la Ville de Nouméa : \n\nInformation sur les VACANCES pour les familles / centres de loisirs / camps de vacances / aides aux vacances / pré-inscription\nInformation sur le SERVICE CIVIQUE pour les jeunes de 16 à 25 ans (30 ans pour les jeunes en situation de handicap)\nInformation sur les FORMATIONS à l’animation volontaire pour tous publics / BAFA accessible à partir de 16 ans / pré-inscription\n\n  \nHoraires : 8h30 à 12h00 \nRivière Salée (Proxibus face à l’école Les Roses) : mercredi 9 \nPK6 (Proxibus parking de l’école Marie Courtot) : vendredi 11 \nNormandie (Proxibus face au collège) : jeudi 17 \nMagenta (Espace Municipal) : jeudi 24 \nPlus d’infos cliquez sur le lien  \n 
URL:https://fol.nc/calendrier/permanences-dinformations-avec-proxi-services/
LOCATION:quartiers de la Ville de Nouméa
ATTACH;FMTTYPE=image/png:https://fol.nc/wp-content/uploads/2025/07/permanence.png
END:VEVENT
END:VCALENDAR