BEGIN:VCALENDAR
VERSION:2.0
PRODID:-//FOL NC - ECPv6.15.20//NONSGML v1.0//EN
CALSCALE:GREGORIAN
METHOD:PUBLISH
X-WR-CALNAME:FOL NC
X-ORIGINAL-URL:https://fol.nc
X-WR-CALDESC:Évènements pour FOL NC
REFRESH-INTERVAL;VALUE=DURATION:PT1H
X-Robots-Tag:noindex
X-PUBLISHED-TTL:PT1H
BEGIN:VTIMEZONE
TZID:UTC
BEGIN:STANDARD
TZOFFSETFROM:+0000
TZOFFSETTO:+0000
TZNAME:UTC
DTSTART:20240101T000000
END:STANDARD
END:VTIMEZONE
BEGIN:VEVENT
DTSTART;TZID=UTC:20250801T183000
DTEND;TZID=UTC:20250803T203000
DTSTAMP:20260422T213305
CREATED:20250718T044954Z
LAST-MODIFIED:20250729T210138Z
UID:35541-1754073000-1754253000@fol.nc
SUMMARY:La Compagnie l'Eau Salée présente "SURPRISE PARTI"
DESCRIPTION:La FOL NC accueille dans ses espaces de KARI VEO\, la Compagnie L’EAU SALÉE en soutien à la résidence\, la production et la diffusion.\nLa Compagnie présente “SURPRISE PARTI” de Faustine Nogues\,\nComédie électorale surréaliste ou happening punk grandeur nature dans les urnesINFORMATIONS PRATIQUES\nLes 1er\, 2 et 3 août\n A 18h30\nA la F.O.L\nA partir de 12 ans\nDurée : 1h30 \nTARIFS\n2500 cfp tarif plein\n2100 cfp tarif réduit (-15 ans\, demandeurs d’emploi) \nBILLETTERIE c’est par ici https://www.eticket.nc/surprise-parti\nSYNOPSIS\nSurprise Parti s’inspire de l’incroyable (mais authentique) ascension de Jon Gnarr\, comédien punk devenu maire de Reykjavik. Au cœur d’une Islande ébranlée par la crise économique\, une bande d’artistes lance une campagne électorale absurde\, presque pour rire. Mais ce qui commence comme un pied de nez aux puissants devient une irrésistible montée vers le pouvoir. Entre théâtre\, stand-up et satire acide\, treize comédien·ne·s incarnent à un rythme effréné les 21 personnages de cette folle campagne.\nOn y parle politique\, bien sûr\, mais aussi rêves\, chaos\, et utopies.\nUne fête électorale où tout peut arriver. Même l’impossible. \nDISTRIBUTION\nTexte : Faustine Nogues\nMise en scène : Marion FARCY\nCréation lumière : Replay NC\nScénographie : Lucile BODIN \nComédien.ne.s : \nNathalie BAC DELBROEUVE\nHugo BALETTE\nArnaud DERICQ\nTeddy GARNIER\nFrédéric MEDEVIELLE\nElodie MORISSET\nHélène RINCÉ\nCynthya THEUIL\nKevin WRIGHT \nAvec la participation généreuse des élèves du Lycée Lapérouse en Spécialité Théâtre \nVega BAUD\nMaxime GILLET\nAmina MUSINA\nNao RENARD \n\n\n\nCrédit photo Aurélie Lombardo
URL:https://fol.nc/calendrier/la-compagnie-leau-salee-presente-surprise-parti/
LOCATION:FOL KARI VEO – Centre ville Nouméa
ATTACH;FMTTYPE=image/jpeg:https://fol.nc/wp-content/uploads/2025/07/affiche-surprise-parti-08.jpg
END:VEVENT
END:VCALENDAR