BEGIN:VCALENDAR
VERSION:2.0
PRODID:-//FOL NC - ECPv6.15.20//NONSGML v1.0//EN
CALSCALE:GREGORIAN
METHOD:PUBLISH
X-ORIGINAL-URL:https://fol.nc
X-WR-CALDESC:Évènements pour FOL NC
REFRESH-INTERVAL;VALUE=DURATION:PT1H
X-Robots-Tag:noindex
X-PUBLISHED-TTL:PT1H
BEGIN:VTIMEZONE
TZID:UTC
BEGIN:STANDARD
TZOFFSETFROM:+0000
TZOFFSETTO:+0000
TZNAME:UTC
DTSTART:20240101T000000
END:STANDARD
END:VTIMEZONE
BEGIN:VEVENT
DTSTART;TZID=UTC:20250824T103000
DTEND;TZID=UTC:20250824T180000
DTSTAMP:20260422T213719
CREATED:20250815T033606Z
LAST-MODIFIED:20250815T042202Z
UID:35564-1756031400-1756058400@fol.nc
SUMMARY:REPAS PARTAGE à la FOL Kari Veo le 24/08/2025 !
DESCRIPTION:Une journée de partage\, de joie\, de bonne humeur tous ensemble avec Cuisine Calédonienne ! \nPréparez-vous pour un événement exceptionnel le dimanche 24 août de 10h30 à 18h au magnifique site de Kari Veo à la FOL NC ! \n  \nManatea Kiaora de Cuisine Calédonienne \, en partenariat avec Thibaut Bizien de Caledoclean et la FOL- NC \, vous invite à une journée conviviale et solidaire Le Pique-Nique du Partage 2eme Édition \nVenez passer un moment inoubliable avec une vue panoramique époustouflante sur Nouméa \, et terminez la journée en beauté avec un coucher de soleil magique . \n  \nAu programme : musique et saveurs \n* Côté musique\, l’ambiance sera au rendez-vous avec le groupe Tahitien Pakahua \, le groupe Fijien Veitacini \, le talentueux Florent Moro \, de la musique envoûtante et la voix sublime de la chanteuse Esther Trepua Wamejo \n* Côté cuisine \, vos papilles vont voyager ! \nLes grands chefs Gaby Levionnois de Uma Kitchen- Pacific Food TV et Alphonse Ishice Koce seront présents \, sans oublier la formidable Betty Levanque qui nous fera des nems chauds ! \n  \nPartage et solidarité \n* N’oubliez pas d’apporter votre natte pour vous installer confortablement ! \n* Le principe est simple : amenez des plats préparés de toutes ethnies confondues pour les partager avec tout le monde et quelque chose à boire également si vous le souhaitez \, le tout dans un esprit de pique-nique géant ! \nMême si vous n’avez rien à amener\, ce n’est pas un problème\, venez profiter de la vue\, de la musique et des plats qui seront a partager. \n* Un espace sera également dédié à la collecte de denrées alimentaires au profit de La Banque Alimentaire de Nouvelle-Calédonie « La BANC » . \n  \nC’est l’occasion de faire une bonne action ! \n  \nCôté interdictions: \nL’alcool et nos amis les animaux ne seront pas acceptés sur le site de Kari Veo ; merci de votre compréhension \n  \nOn vous attend nombreux pour cette journée festive\, gourmande et solidaire ! \nEntrée gratuite \n  \nhttps://fr-fr.facebook.com/people/FOL-NC/100064073433744/ \n  \n 
URL:https://fol.nc/calendrier/repas-partage-a-kari-veo/
LOCATION:FOL KARI VEO\, 51 rue du Pasteur Ariège\, centre-ville Nouméa
ATTACH;FMTTYPE=image/jpeg:https://fol.nc/wp-content/uploads/2024/07/DSC_0442-scaled.jpg
END:VEVENT
END:VCALENDAR