BEGIN:VCALENDAR
VERSION:2.0
PRODID:-//FOL NC - ECPv6.15.20//NONSGML v1.0//EN
CALSCALE:GREGORIAN
METHOD:PUBLISH
X-ORIGINAL-URL:https://fol.nc
X-WR-CALDESC:Évènements pour FOL NC
REFRESH-INTERVAL;VALUE=DURATION:PT1H
X-Robots-Tag:noindex
X-PUBLISHED-TTL:PT1H
BEGIN:VTIMEZONE
TZID:UTC
BEGIN:STANDARD
TZOFFSETFROM:+0000
TZOFFSETTO:+0000
TZNAME:UTC
DTSTART:20240101T000000
END:STANDARD
END:VTIMEZONE
BEGIN:VEVENT
DTSTART;TZID=UTC:20250916T090000
DTEND;TZID=UTC:20250916T110000
DTSTAMP:20260422T200103
CREATED:20250915T060726Z
LAST-MODIFIED:20250915T061939Z
UID:35599-1758013200-1758020400@fol.nc
SUMMARY:PERMANENCE D'INFORMATION
DESCRIPTION:En septembre\, la FOL vient à votre rencontre lors de la permanence d’informations « PROXI SERVICES » organisée par la Ville de Nouméa : \n\nDate : mardi  15/09/2025\nHoraires : 9h à 11h00\nLieu : Maison des associations de ST QUENTIN.\n\nDes infos sur : \n\nLes VACANCES pour les familles / centres de loisirs / camps de vacances / aides aux vacances / pré-inscription\n\nBon à savoir : la FOL met en place une navette gratuite pour les vacances afin de récupérer les enfants des quartiers nord (Collège de Normandie\, St Quentin Rivière-Salée\, Gervolino – PK6) \nle matin et le soir et les acheminer jusqu’au centre de loisirs Koch (Vallée des Colons). \n  \n\nLe SERVICE CIVIQUE pour les jeunes de 16 à 25 ans (30 ans pour les jeunes en situation de handicap)\n\n  \n\nLes FORMATIONS à l’animation volontaire pour tous publics / BAFA accessible à partir de 16 ans / pré-inscription\n\n  \n  \n 
URL:https://fol.nc/calendrier/permanence-dinformation/
LOCATION:Maison des Associations de St Quentin
ATTACH;FMTTYPE=image/png:https://fol.nc/wp-content/uploads/2025/07/permanence.png
END:VEVENT
END:VCALENDAR