BEGIN:VCALENDAR
VERSION:2.0
PRODID:-//FOL NC - ECPv6.15.20//NONSGML v1.0//EN
CALSCALE:GREGORIAN
METHOD:PUBLISH
X-WR-CALNAME:FOL NC
X-ORIGINAL-URL:https://fol.nc
X-WR-CALDESC:Évènements pour FOL NC
REFRESH-INTERVAL;VALUE=DURATION:PT1H
X-Robots-Tag:noindex
X-PUBLISHED-TTL:PT1H
BEGIN:VTIMEZONE
TZID:UTC
BEGIN:STANDARD
TZOFFSETFROM:+0000
TZOFFSETTO:+0000
TZNAME:UTC
DTSTART:20240101T000000
END:STANDARD
END:VTIMEZONE
BEGIN:VEVENT
DTSTART;TZID=UTC:20251011T073000
DTEND;TZID=UTC:20251018T170000
DTSTAMP:20260422T181919
CREATED:20250915T062521Z
LAST-MODIFIED:20250915T062650Z
UID:35607-1760167800-1760806800@fol.nc
SUMMARY:Formation BAFA - BASE (1er stage théorique) OCTOBRE 2025
DESCRIPTION:La FOL NC organise une formation BASE BAFA (1er stage théorique) à Dumbéa (école Clain) en externat du samedi 11/10/2025 au samedi 18/10/2025 (8 jours en continu/repas du midi compris). \n\n\n\nToutes les informations sur le BAFA \n\n\n\nPour rentrer en formation\, des aides à la formation existent comme les bourses provinciales (sur critères) : 7500frs/Province Sud et 9000frs/Province Nord.  \n\n\n\n\n\nPour plus de renseignements\, n’hésites pas à contacter la FOL NC par mail : secretariat@folnc.nc \n\n\n\n\n\nFiche d’inscription à télécharger 
URL:https://fol.nc/calendrier/formation-bafa-base-1er-stage-theorique-octobre-2025/
LOCATION:Ecole primaire G. CLAIN Koutio DUMBEA
ATTACH;FMTTYPE=image/png:https://fol.nc/wp-content/uploads/2023/11/12.png
ORGANIZER;CN="FOL NC":MAILTO:secretariat@folnc.nc
END:VEVENT
BEGIN:VEVENT
DTSTART;TZID=UTC:20251013T073000
DTEND;TZID=UTC:20251024T170000
DTSTAMP:20260422T181919
CREATED:20250917T220002Z
LAST-MODIFIED:20250917T220045Z
UID:35632-1760340600-1761325200@fol.nc
SUMMARY:EN OCTOBRE\, c'est les vacances !
DESCRIPTION:Du 13 au 24/10/2025\, la FOL accueille vos enfants sur les centres de loisirs de Nouméa (3/13 ans) et en camp de vacances au CAP de Poé (9/15 ans). \nLes inscriptions sont ouvertes. \nRetrouvez toutes les infos \n 
URL:https://fol.nc/calendrier/en-octobre-cest-les-vacances/
LOCATION:Ecoles RUSSIER\, KOCH\, NAVETTE NORD-EST\, CAP POE
ATTACH;FMTTYPE=image/jpeg:https://fol.nc/wp-content/uploads/2025/09/CVL-Vacances-Oct-2025-FOL-NC-1.jpg
END:VEVENT
BEGIN:VEVENT
DTSTART;TZID=UTC:20251018T103000
DTEND;TZID=UTC:20251018T170000
DTSTAMP:20260422T181919
CREATED:20251013T060323Z
LAST-MODIFIED:20251013T060323Z
UID:35708-1760783400-1760806800@fol.nc
SUMMARY:Journée "Une étoile dans nos vies"
DESCRIPTION:Samedi 18 octobre\, de 10h30 à 17h à KARI VEO-FOL \nJournée « Une étoile dans nos vies : le deuil périnatal en lumière » \nOrganisée par Les Petites étoiles du Lagon. \n  \nLien FB : https://www.facebook.com/events/4150443105228322 \n  \nAteliers et animations \nMassages individuels avec Alizé\, doula – Ouvert à tous\, enfants dès 6 ans. Créneaux 15 min de 10h30 à 16h30. \nhttps://calendar.app.google/XwGZADCg8oPR8SXD9 \n  \nÉcriture thérapeutique – Lettre à mon bébé avec Julie “Le papillon bleu” – Réservé aux adultes. De 11h à 12h. \nhttps://www.helloasso.com/…/ecriture-therapeutique… \n  \nYoga et relaxation guidée avec Le yoga de Marie-Laure – Pour les familles et enfants à partir de 8 ans. De 14h30 à 15h30. \nhttps://www.helloasso.com/…/yoga-en-famille-et… \n  \nEntrée libre et gratuite. \nAvec le soutien du gouvernement NC « 1000 premiers jours ».
URL:https://fol.nc/calendrier/journee-une-etoile-dans-nos-vies/
LOCATION:FOL KARI VEO\, 51 rue du Pasteur Ariège\, centre-ville Nouméa
ATTACH;FMTTYPE=image/png:https://fol.nc/wp-content/uploads/2025/10/fb-programme-deuil.png
END:VEVENT
END:VCALENDAR