BEGIN:VCALENDAR
VERSION:2.0
PRODID:-//FOL NC - ECPv6.15.20//NONSGML v1.0//EN
CALSCALE:GREGORIAN
METHOD:PUBLISH
X-WR-CALNAME:FOL NC
X-ORIGINAL-URL:https://fol.nc
X-WR-CALDESC:Évènements pour FOL NC
REFRESH-INTERVAL;VALUE=DURATION:PT1H
X-Robots-Tag:noindex
X-PUBLISHED-TTL:PT1H
BEGIN:VTIMEZONE
TZID:UTC
BEGIN:STANDARD
TZOFFSETFROM:+0000
TZOFFSETTO:+0000
TZNAME:UTC
DTSTART:20240101T000000
END:STANDARD
END:VTIMEZONE
BEGIN:VEVENT
DTSTART;TZID=UTC:20251215T073000
DTEND;TZID=UTC:20251222T170000
DTSTAMP:20260422T153534
CREATED:20251113T235626Z
LAST-MODIFIED:20251113T235701Z
UID:35750-1765783800-1766422800@fol.nc
SUMMARY:Formation BAFA - BASE (1er stage théorique) DECEMBRE 2025
DESCRIPTION:La FOL NC organise une formation BASE BAFA (1er stage théorique) dans ses locaux à KARI VEO\, NOuméa (Centre-Ville) en externat du lundi 15/12/2025 au lundi 22/12/2025 (8 jours en continu/déjeuner compris). \nLes horaires : 7h30- 17h. \n\n\n\nToutes les informations sur le BAFA \n\n\n\nPour rentrer en formation\, des aides à la formation existent comme les bourses provinciales (sur critères) : 7500frs/Province Sud et 9000frs/Province Nord.  \n\n\n\n\n\nPour plus de renseignements\, n’hésites pas à contacter la FOL NC par mail : secretariat@folnc.nc \n\n\n\n\n\nFiche d’inscription à télécharger 
URL:https://fol.nc/calendrier/https-fol-nc-wp-content-uploads-2025-11-calendrier-previsionnel-2025-stages-bafa-fol-nc-v5-pdf/
LOCATION:FOL KARI VEO\, 51 rue du Pasteur Ariège\, centre-ville Nouméa
ATTACH;FMTTYPE=image/png:https://fol.nc/wp-content/uploads/2024/06/434052144_7028873460550941_3032088490315485618_n.png
ORGANIZER;CN="FOL NC":MAILTO:secretariat@folnc.nc
END:VEVENT
END:VCALENDAR