BEGIN:VCALENDAR
VERSION:2.0
PRODID:-//FOL NC - ECPv6.15.20//NONSGML v1.0//EN
CALSCALE:GREGORIAN
METHOD:PUBLISH
X-WR-CALNAME:FOL NC
X-ORIGINAL-URL:https://fol.nc
X-WR-CALDESC:Évènements pour FOL NC
REFRESH-INTERVAL;VALUE=DURATION:PT1H
X-Robots-Tag:noindex
X-PUBLISHED-TTL:PT1H
BEGIN:VTIMEZONE
TZID:UTC
BEGIN:STANDARD
TZOFFSETFROM:+0000
TZOFFSETTO:+0000
TZNAME:UTC
DTSTART:20240101T000000
END:STANDARD
END:VTIMEZONE
BEGIN:VEVENT
DTSTART;TZID=UTC:20251222T071500
DTEND;TZID=UTC:20260206T170000
DTSTAMP:20260422T121405
CREATED:20251201T061642Z
LAST-MODIFIED:20251201T062005Z
UID:35759-1766387700-1770397200@fol.nc
SUMMARY:SOURIEZ C'EST L'ETE ! On commence en décembre...
DESCRIPTION:🎄 Les vacances de Noël approchent… et notre Centre de Loisirs ouvre ses portes ! \nLa FOL NC organise un accueil convivial et inclusif à l’école Surleau\, pour offrir aux enfants de 3 à 13 ans des vacances riches en découvertes\, en rires et en partage. \n🌟 Au programme :\n✨ Animations variées\n🎭 Spectacle des Kidams (S1) : « La machine à rêves… est cassée »\n🏊‍♂️ Séance de baignade (S2)\n🍽️ Repas et goûter fournis\n👐 Accueil de tous les enfants\, avec une attention particulière à l’inclusion des publics en situation de handicap — pour grandir ensemble\, autrement. \n📅 Deux sessions :\n• S1 : du 22 au 26 décembre (fermeture à 13h le 24.12 et fermé le 25.12)\n• S2 : du 29 au 31 décembre (fermeture à 13h le 31.12) \n🕞 Horaires : 7h15 – 17h\n💰 Tarifs : à partir de 8300 FRS / semaine  \n🎉 Et ce n’est pas tout !\n🌞 Les grandes vacances d’été approchent\, et du 5 janvier au 6 février 2026\, la FOL NC sera au rendez-vous avec encore plus d’aventures pour vos enfants ! \n👉 Au programme : \n🏫 3 centres de loisirs à Nouméa :\n• Surleau – Centre-Ville\n• Gervolino – PK6\n• Capucines – Vallée des Colons \n💰 Tarif/semaine : 13 800 FRS (Maternel)\, 13 600 FRS (Primaires) \n⛺ 3 camps de vacances (8–15 ans) :\n• CAP de Poé\n• CAN de Nouméa (2 sessions) \n💰 Tarif/séjour : 32 500 FRS (Poé) et 30 000FRS (CAN)      \n✨ De quoi commencer 2026 avec des souvenirs plein la tête ! \n📍 Inscriptions ouvertes !\nRendez-vous à Kari VEO – 51 rue du Pasteur Ariège\, centre-ville Nouméa. \nPlus d’infos : secretariat@folnc.nc / 27 21 40 / www.fol.nc \n💡 Aides aux vacances : Bons CAFAT\, CCAS\, dispositif Clic and Mouv’ de la Province Sud. \n Retrouvez les fiches d’inscription pour les vacances et la Fiche Sanitaire de Liaison \nOffrez à votre enfant des vacances qui ont du sens : du jeu\, du partage et de l’épanouissement dans un environnement sécurisé et bienveillant 🌈\nRejoignez-nous ! \n 
URL:https://fol.nc/calendrier/souriez-cest-lete-on-commence-en-decembre/
LOCATION:Centres dans les écoles SURLEAU (Centre-Ville)\, CAPUCINES (Vallée-Des-Colons)\, GERVOLINO (PK5\, Nouméa
ATTACH;FMTTYPE=image/jpeg:https://fol.nc/wp-content/uploads/2025/12/affiche-CL-dec-2025-.jpg
END:VEVENT
END:VCALENDAR