BEGIN:VCALENDAR
VERSION:2.0
PRODID:-//FOL NC - ECPv6.15.20//NONSGML v1.0//EN
CALSCALE:GREGORIAN
METHOD:PUBLISH
X-ORIGINAL-URL:https://fol.nc
X-WR-CALDESC:Évènements pour FOL NC
REFRESH-INTERVAL;VALUE=DURATION:PT1H
X-Robots-Tag:noindex
X-PUBLISHED-TTL:PT1H
BEGIN:VTIMEZONE
TZID:UTC
BEGIN:STANDARD
TZOFFSETFROM:+0000
TZOFFSETTO:+0000
TZNAME:UTC
DTSTART:20250101T000000
END:STANDARD
END:VTIMEZONE
BEGIN:VEVENT
DTSTART;TZID=UTC:20260209T080000
DTEND;TZID=UTC:20260213T120000
DTSTAMP:20260422T121255
CREATED:20260126T011808Z
LAST-MODIFIED:20260222T233139Z
UID:35790-1770624000-1770984000@fol.nc
SUMMARY:ATELIER "DESSIN ET STOP MOTION" pour les 10 ans et +
DESCRIPTION:✨ VACANCES DE FÉVRIER 2026 – ATELIER DESSIN ET STOP-MOTION ✨???? \nLa FOL NC propose un atelier « Dessin et stop-motion » pour les enfants à partir de 10 ans\, du 9 au 13 février 2026. \nThème : “Sous les étoiles”\nImaginer\, dessiner\, animer… et créer son propre film image par image ! \nEn partenariat avec Flamingo Studio et l’association Jeunes & Toiles. \nÀ la FOL NC – Kari Véo (Centre-ville Nouméa)\n⏰ 5 jours – de 8h à 12h\n13 500 F + 500 F (adhésion 2026)\nPlaces limitées \nUn atelier ludique et créatif pour découvrir le dessin et le cinéma d’animation pendant les vacances ! \nPendant 5 matinées\, les enfants découvriront les bases du dessin et du cinéma d’animation : création d’une histoire\, de personnages\, de décors et accessoires\, prise de vues image par image avec des tablettes numériques et réalisation de petits films d’animation\, dans un cadre ludique et encadré. \nInscriptions & infos :\nsecretariat@folnc.nc \nTél :  27 21 40\nwww.fol.nc \nhttps://fol.nc/wp-content/uploads/2026/01/FICHE-INSCRIPTION-ETE-ATELIERS-KARI-VEO-FEV.2026.pdf \n#FOLNC #Vacances2026 #StopMotion #AtelierCréatif #Nouméa #Enfants
URL:https://fol.nc/calendrier/atelier-dessin-et-stop-motion-pour-les-10-ans-et/
ATTACH;FMTTYPE=image/jpeg:https://fol.nc/wp-content/uploads/2026/02/ateliers-KV-fev-2026.jpg
END:VEVENT
END:VCALENDAR