BEGIN:VCALENDAR
VERSION:2.0
PRODID:-//FOL NC - ECPv6.15.20//NONSGML v1.0//EN
CALSCALE:GREGORIAN
METHOD:PUBLISH
X-ORIGINAL-URL:https://fol.nc
X-WR-CALDESC:Évènements pour FOL NC
REFRESH-INTERVAL;VALUE=DURATION:PT1H
X-Robots-Tag:noindex
X-PUBLISHED-TTL:PT1H
BEGIN:VTIMEZONE
TZID:UTC
BEGIN:STANDARD
TZOFFSETFROM:+0000
TZOFFSETTO:+0000
TZNAME:UTC
DTSTART:20250101T000000
END:STANDARD
END:VTIMEZONE
BEGIN:VEVENT
DTSTART;TZID=UTC:20260317T080000
DTEND;TZID=UTC:20260410T120000
DTSTAMP:20260422T103925
CREATED:20260317T035240Z
LAST-MODIFIED:20260317T035240Z
UID:36048-1773734400-1775822400@fol.nc
SUMMARY:VACANCES AVRIL 2026 : INSCRIPTIONS EN COURS
DESCRIPTION:🌞 Vacances d’avril : les inscriptions sont ouvertes ! \nLes centres de loisirs de la FOL NC accueillent les enfants de 3 à 13 ans du 7 au 17 avril 2026 avec un programme d’activités éducatives\, sportives et de découverte. \n📍 Deux centres ouverts : \nÉcole Gervolino – Sport\, bien-être et danse\n• sortie au parc (S1)\n• atelier danse moderne avec Edwina – Divine Danse Company (S2)\n• navette gratuite zone Nord / RS \nÉcole Koch – Sciences\, nature et santé\n• atelier jardinage et alimentation saine avec Permalove (S1)\n• sortie au Château Hagen (S2) : \n\njeu de piste culturel (primaires)\ndécouverte du potager et malle des 5 sens (maternels)\n\n💰 Tarifs :\n• Semaine : 13 800 F (maternel) et 13 600 F (primaires) / tarif en S1 11 100 F et 10 900 F. \n💡 Aides possibles pour les familles :\nCAFAT • CCAS • Clic and Mouv’ (critères en attente) \n👨‍👩‍👧 -10 % pour les fratries à partir du 2ᵉ enfant \n⚠️ Les places sont limitées → pensez à inscrire vos enfants rapidement ! \nFiche d’inscription Centre de Loisirs 2026 \nFiche Sanitaire de Liaison \n📩 secretariat@folnc.nc\n📞 27 21 40
URL:https://fol.nc/calendrier/vacances-avril-2026-inscriptions-en-cours/
LOCATION:écoles GERVOLINO (PK5) et KOCH (VDC)\, Nouméa
ATTACH;FMTTYPE=image/png:https://fol.nc/wp-content/uploads/2026/02/affiche-inscription-vacances-avrilok.png
END:VEVENT
BEGIN:VEVENT
DTSTART;TZID=UTC:20260317T090000
DTEND;TZID=UTC:20260317T120000
DTSTAMP:20260422T103925
CREATED:20250210T064917Z
LAST-MODIFIED:20260227T085641Z
UID:35169-1773738000-1773748800@fol.nc
SUMMARY:REUNION D'INFORMATION RECRUTEMENT SERVICE CIVIQUE
DESCRIPTION:Le Service Civique est accessible à tous les jeunes de 16 à 25 ans (jusqu’à 𝟑𝟎 𝐚𝐧𝐬 𝙥𝙤𝙪𝙧 𝙡𝙚𝙨 𝙟𝙚𝙪𝙣𝙚𝙨 𝙚𝙣 𝙨𝙞𝙩𝙪𝙖𝙩𝙞𝙤𝙣 𝙙𝙚 𝙝𝙖𝙣𝙙𝙞𝙘𝙖𝙥) et permet de s’engager dans une association ou collectivité pour des missions de volontariat (de 6 à 10 mois) s𝐚𝐧𝐬 𝐜𝐨𝐧𝐝𝐢𝐭𝐢𝐨𝐧 𝐝𝐞 𝐝𝐢𝐩𝐥𝐨̂𝐦𝐞𝐬. \nProfil :\n 𝗔𝘃𝗼𝗶𝗿 𝗲𝗻𝘁𝗿𝗲 𝟭𝟲 𝗲𝘁 𝟮𝟱 𝗮𝗻𝘀 cette année\, jusqu’à 30 ans pour les personnes en situation de handicap\n Disponible en 𝟲 𝗲𝘁 𝟭𝟬 𝗺𝗼𝗶𝘀\n Être motivé.e\n 𝗦𝗮𝗻𝘀 𝗰𝗼𝗻𝗱𝗶𝘁𝗶𝗼𝗻 𝗱𝗲 𝗱𝗶𝗽𝗹𝗼̂𝗺𝗲𝘀 \n𝐓𝐮 𝐯𝐞𝐮𝐱 𝐫𝐞𝐧𝐝𝐫𝐞 𝐬𝐞𝐫𝐯𝐢𝐜𝐞 à la société tout en apprenant\, te sentir utile et participer à des actions d’intérêt collectif à destination d’enfants\, d’adolescents\, de personnes en situation de handicap ou encore t’engager dans des projets liés à l’environnement ou à l’éducation\, viens t’informer et pourquoi pas candidater ! \nPour cette première campagne de recrutement de l’année\, l’équipe du Service Civique FOL- NC t’invite à une réunion : \n Mardi 17 mars 2026 \n à la FOL NC – KARI VEO\, 51 rue Pasteur Ariège\, Centre-Ville Nouméa \n de 𝟬𝟵𝗵𝟬𝟬 𝗮̀ 𝟭𝟮𝗵𝟬𝟬 \n 
URL:https://fol.nc/calendrier/reunion-dinformation-recrutement-service-civique-3/
LOCATION:FOL KARI VEO – Centre ville Nouméa
ATTACH;FMTTYPE=image/jpeg:https://fol.nc/wp-content/uploads/2025/02/AFFICHE-SC-V1-et-V2_page-0001.jpg
END:VEVENT
END:VCALENDAR