BEGIN:VCALENDAR
VERSION:2.0
PRODID:-//FOL NC - ECPv6.15.20//NONSGML v1.0//EN
CALSCALE:GREGORIAN
METHOD:PUBLISH
X-WR-CALNAME:FOL NC
X-ORIGINAL-URL:https://fol.nc
X-WR-CALDESC:Évènements pour FOL NC
REFRESH-INTERVAL;VALUE=DURATION:PT1H
X-Robots-Tag:noindex
X-PUBLISHED-TTL:PT1H
BEGIN:VTIMEZONE
TZID:UTC
BEGIN:STANDARD
TZOFFSETFROM:+0000
TZOFFSETTO:+0000
TZNAME:UTC
DTSTART:20250101T000000
END:STANDARD
END:VTIMEZONE
BEGIN:VEVENT
DTSTART;TZID=UTC:20260413T080000
DTEND;TZID=UTC:20261110T170000
DTSTAMP:20260423T014145
CREATED:20260413T013049Z
LAST-MODIFIED:20260413T013440Z
UID:36122-1776067200-1794330000@fol.nc
SUMMARY:FORMATION PROFESSIONNELLE CONTINUE\, tout au long de l'année
DESCRIPTION:Se former au handicap : comprendre et professionnaliser ses pratiques \nLa Fédération des Œuvres Laïques de Nouvelle-Calédonie propose des formations professionnelles dédiées à l’accueil des personnes en situation de handicap. \n  \n🧩 Handicap : les notions clés \nObjectifs : \n\nComprendre la notion de handicap\nIdentifier les différents types\nDépasser les représentations\nFavoriser l’inclusion\n\n📅 Dates 2026 :\n30 avril • 7 juillet • 10 septembre • 2 novembre \n📍 Lieu : FOL Kari Véo – Nouméa\n💰 Tarif : 17 500 F / stagiaire \n  \n🤝 Assurer l’accueil des personnes en situation de handicap avec professionnalisme et bienveillance \nObjectifs : \n\nAdapter sa posture professionnelle\nDévelopper une communication adaptée\nAccueillir avec justesse et empathie\nÉviter les erreurs fréquentes\n\n📅 Dates 2026 :\n11 & 12 mai • 15 & 16 juillet • 14 & 15 septembre • 9 & 10 novembre \n📍 Lieu : FOL Kari Véo – Nouméa\n💰 Tarif : 35 000 F / stagiaire \n  \n🛠️ Méthodes pédagogiques \n\nApports théoriques\nMises en situation\nAteliers pratiques\nÉchanges entre professionnel·les\n\n  \n💼 Financement \n👉 Prise en charge possible par l’employeur (FIAF ou DTEFPC) \n  \n🚀 S’engager pour une société inclusive \nSe former\, c’est renforcer ses compétences et améliorer la qualité d’accueil de tous les publics. \n📩 Contact : a.omar@folnc.nc
URL:https://fol.nc/calendrier/formation-professionnelle-continue-tout-au-long-de-lannee/
LOCATION:FOL KARI VEO\, 51 rue du Pasteur Ariège\, centre-ville Nouméa
ATTACH;FMTTYPE=image/jpeg:https://fol.nc/wp-content/uploads/2026/04/Se-former-a-lapproche-des-publics-en-situation-de-handicap-en-2026.jpg
END:VEVENT
BEGIN:VEVENT
DTSTART;TZID=UTC:20260423T170000
DTEND;TZID=UTC:20260428T153000
DTSTAMP:20260423T014145
CREATED:20260414T214702Z
LAST-MODIFIED:20260416T233152Z
UID:36139-1776963600-1777390200@fol.nc
SUMMARY:REUNION D'INFORMATION - FDVA 2026
DESCRIPTION:Le Collectif Des Associations NC (CDANC)\, en partenariat avec la Fédération des Œuvres Laïques NC (FOLNC)\, organise des sessions de sensibilisation et d’accompagnement pour les associations afin de les aider à constituer un dossier pour répondre aux appels à projets et notamment le Fonds de développement de la vie associative (FDVA : campagnes 2026 en cours et démarches 2027). Plus largement\,  ces temps contribueront à faire monter les associations en compétences pour leurs demandes de financements pour leur projet associatif et actions/projets. Ouvert exclusivement aux associations du territoire. \nOBJECTIFS : \n\nPermettre aux bénévoles et responsables associatifs de développer des compétences clés en conception et gestion de projets associatifs.\nEncourager la montée en compétence des responsables associatifs\nAppui opérationnel et structurant.\n\nCombinaison de sessions en présentiel + en visioconférence ; temps de formation collectifs puis individuels. \nFormation gratuite\, financement du Haut-Commissariat de la République/DAECPP et un co-portage CDANC/FOLNC. \nMODULE 1 : Réunion d’information \n\nJeudi 23/04 à Kari Veo-FOLNC\, de 17h à 19h : sur inscription avec ce formulaire\nMardi 28/04 en visioconférence (webinaire)\, de 13h30 : lien Teams à suivre\n\n 
URL:https://fol.nc/calendrier/reunion-dinformation-fdva-2026/
LOCATION:FOL KARI VEO\, 51 rue du Pasteur Ariège\, centre-ville Nouméa
ATTACH;FMTTYPE=image/jpeg:https://fol.nc/wp-content/uploads/2026/04/Accompagnement-des-associations-FDVA-2026.jpg
END:VEVENT
END:VCALENDAR