BEGIN:VCALENDAR
VERSION:2.0
PRODID:-//FOL NC - ECPv6.15.20//NONSGML v1.0//EN
CALSCALE:GREGORIAN
METHOD:PUBLISH
X-WR-CALNAME:FOL NC
X-ORIGINAL-URL:https://fol.nc
X-WR-CALDESC:Évènements pour FOL NC
REFRESH-INTERVAL;VALUE=DURATION:PT1H
X-Robots-Tag:noindex
X-PUBLISHED-TTL:PT1H
BEGIN:VTIMEZONE
TZID:UTC
BEGIN:STANDARD
TZOFFSETFROM:+0000
TZOFFSETTO:+0000
TZNAME:UTC
DTSTART:20240101T000000
END:STANDARD
END:VTIMEZONE
BEGIN:VEVENT
DTSTART;TZID=UTC:20250801T183000
DTEND;TZID=UTC:20250803T203000
DTSTAMP:20260422T195854
CREATED:20250718T044954Z
LAST-MODIFIED:20250729T210138Z
UID:35541-1754073000-1754253000@fol.nc
SUMMARY:La Compagnie l'Eau Salée présente "SURPRISE PARTI"
DESCRIPTION:La FOL NC accueille dans ses espaces de KARI VEO\, la Compagnie L’EAU SALÉE en soutien à la résidence\, la production et la diffusion.\nLa Compagnie présente “SURPRISE PARTI” de Faustine Nogues\,\nComédie électorale surréaliste ou happening punk grandeur nature dans les urnesINFORMATIONS PRATIQUES\nLes 1er\, 2 et 3 août\n A 18h30\nA la F.O.L\nA partir de 12 ans\nDurée : 1h30 \nTARIFS\n2500 cfp tarif plein\n2100 cfp tarif réduit (-15 ans\, demandeurs d’emploi) \nBILLETTERIE c’est par ici https://www.eticket.nc/surprise-parti\nSYNOPSIS\nSurprise Parti s’inspire de l’incroyable (mais authentique) ascension de Jon Gnarr\, comédien punk devenu maire de Reykjavik. Au cœur d’une Islande ébranlée par la crise économique\, une bande d’artistes lance une campagne électorale absurde\, presque pour rire. Mais ce qui commence comme un pied de nez aux puissants devient une irrésistible montée vers le pouvoir. Entre théâtre\, stand-up et satire acide\, treize comédien·ne·s incarnent à un rythme effréné les 21 personnages de cette folle campagne.\nOn y parle politique\, bien sûr\, mais aussi rêves\, chaos\, et utopies.\nUne fête électorale où tout peut arriver. Même l’impossible. \nDISTRIBUTION\nTexte : Faustine Nogues\nMise en scène : Marion FARCY\nCréation lumière : Replay NC\nScénographie : Lucile BODIN \nComédien.ne.s : \nNathalie BAC DELBROEUVE\nHugo BALETTE\nArnaud DERICQ\nTeddy GARNIER\nFrédéric MEDEVIELLE\nElodie MORISSET\nHélène RINCÉ\nCynthya THEUIL\nKevin WRIGHT \nAvec la participation généreuse des élèves du Lycée Lapérouse en Spécialité Théâtre \nVega BAUD\nMaxime GILLET\nAmina MUSINA\nNao RENARD \n\n\n\nCrédit photo Aurélie Lombardo
URL:https://fol.nc/calendrier/la-compagnie-leau-salee-presente-surprise-parti/
LOCATION:FOL KARI VEO – Centre ville Nouméa
ATTACH;FMTTYPE=image/jpeg:https://fol.nc/wp-content/uploads/2025/07/affiche-surprise-parti-08.jpg
END:VEVENT
BEGIN:VEVENT
DTSTART;TZID=UTC:20250806T113000
DTEND;TZID=UTC:20250806T130000
DTSTAMP:20260422T195854
CREATED:20250708T041332Z
LAST-MODIFIED:20250708T042001Z
UID:35477-1754479800-1754485200@fol.nc
SUMMARY:PERMANENCE D'INSCRIPTION VACANCES AOUT 2025
DESCRIPTION:La FOL organise une permanence d’inscription à l’école Candide KOCH (VDC) pour les vacances d’août : mercredi 6 août de 11h45 à 12h45. \nAu programme des vacances : \n2 centres de loisirs ouverts à Nouméa du 11 au 22/08/2025 à C.KOCH et à S.RUSSIER pour les 3-5/6-13 ans. \nLe thème : “Graines d’artistes\, Scènes en fête” \n  \n1 camp de vacances au Centre des Activités Nautiques de Nouméa du 18 au 22/08/2025 pour les 9-13 ans : “Les aventuriers du lagon” (activités nautiques* et de plein air) \nPour les inscriptions : \n\napporter le carnet de santé de l’enfant (si 1ère inscription 2025)\,\nun certificat médical d’aptitudes aux activités nautiques et attestation 20 mètres nage libre (pour le camp)*\nles aides (bons CCAS Nouméa ou CAFAT\, QR code ou les identifiants “Clic and mouv’ PS”)\nrèglement possible en espèces et chéque\n\nFICHE INSCRIPTION FOL – AOÛT \nFICHE SANITAIRE DE LIAISON \nAu plaisir de vous y retrouver 🙂 \n  \nPour plus d’infos : secretariat@folnc.nc \nTél : 27 21 40
URL:https://fol.nc/calendrier/permanence-dinscription-vacances-aout-2025/
LOCATION:école C.KOCH Vallée des Colons Nouméa
ATTACH;FMTTYPE=image/png:https://fol.nc/wp-content/uploads/2023/05/affiche-inscription-1.png
END:VEVENT
BEGIN:VEVENT
DTSTART;TZID=UTC:20250811T073000
DTEND;TZID=UTC:20250822T170000
DTSTAMP:20260422T195854
CREATED:20250711T031613Z
LAST-MODIFIED:20250711T032044Z
UID:35499-1754897400-1755882000@fol.nc
SUMMARY:EN AOUT\, JE VAIS AU CENTRE !
DESCRIPTION:Deux centres de loisirs à Nouméa pour les enfants de 3 à 13 ans : C. KOCH et S.RUSSIER ! \nUne navette gratuite pour les enfants résidents des quartiers Nord-Est (points d’arrpet + accueil à l’école GERVOLINO) pour le centre KOCH. \nArts de la scène\, expression\, cirque\, spectacles vivants… \nGraines d’artistes\, scènes en fête ! \nJournées adaptées aux rythmes de l’enfant (maternel et primaire)\, valide et en situation de handicap. \nDes repas sains avec des produits frais et locaux (La Niçoise). \nUne équipe d’animation formée et motivée pour des vacances ludiques et riche en découvertes \nDe la joie et de la bonne humeur 🙂 \nInscriptions ouvertes ! \nPlus d’infos \n 
URL:https://fol.nc/calendrier/centres-de-loisirs-vacances-daout/
LOCATION:centres dans les écoles KOCH\, RUSSIER + Navette GERVOLINO
ATTACH;FMTTYPE=image/jpeg:https://fol.nc/wp-content/uploads/2025/07/Affiche-CL-FOL-AOUT-2025.jpg
END:VEVENT
BEGIN:VEVENT
DTSTART;TZID=UTC:20250818T073000
DTEND;TZID=UTC:20250822T170000
DTSTAMP:20260422T195854
CREATED:20250711T030510Z
LAST-MODIFIED:20250711T032136Z
UID:35494-1755502200-1755882000@fol.nc
SUMMARY:EN AOUT\, JE PARS EN CAMP DE VACANCES !
DESCRIPTION:Camp de vacances accessible aux enfants et pré-ados de 9 à 13 ans. \nA Nouméa\, au Centre des Activités Nautiques de la province Sud situé en bord de mer. \nActivités voile (Fun boat)\, tournoi de kayak polo\, veillées animées\, balades\, jeux et grand air… \nSensibilisation à la biodiversité avec notre partenaire le Centre d’Initiation à l’Environnement – CIE \nDu fun et des souvenirs en perspective ! \nRetrouvez plus d’infos \n 
URL:https://fol.nc/calendrier/en-aout-je-pars-en-camp-de-vacances/
LOCATION:Centre des Activités Nautiques – CAN\, Nouméa
ATTACH;FMTTYPE=image/jpeg:https://fol.nc/wp-content/uploads/2025/07/Affiche-CV-CAN-AOUT-2025.jpg
END:VEVENT
BEGIN:VEVENT
DTSTART;TZID=UTC:20250818T073000
DTEND;TZID=UTC:20250823T170000
DTSTAMP:20260422T195854
CREATED:20250706T234053Z
LAST-MODIFIED:20250718T045948Z
UID:34009-1755502200-1755968400@fol.nc
SUMMARY:Formation BAFA - APPROFONDISSEMENT Handicap / Vacances d'août
DESCRIPTION:La FOL NC organise une formation BAFA Approfondissement sur le thème : “L’inclusion des enfants en situation de handicap en Centre des vacances et de loisirs” en externat du lundi 18/08 au samedi 23/08/2025 (8 jours en continu) à la FOL KARI VEO. \nLes repas du midi sont à la charge des participants (venir avec son repas/gamelle : accès à un frigo et un micro-onde). Déjeuners pris collectivement à la FOL. \n\n\n\nTu souhaites terminer ton BAFA et participer à l’éducation des enfants en situation d’handicap pendant les temps de loisirs alors inscris-toi sur cette session de formation. \n\n\n\nPour rentrer en formation\, des aides à la formation existent comme les bourses provinciales.  \n\n\n\n\n\nPour plus de renseignements\, n’hésites pas à contacter la FOL NC par mail : secretariat@folnc.nc  ou par tél : 27 21 40. \n\n\n\n\n\nFiche d’inscription à télécharger : FICHE D’INSCRIPTION APPRO BAFA Handi Août 2024 \n\nInscriptions ouvertes jusqu’au mercredi 13/08/2025 (attention places limitées)!
URL:https://fol.nc/calendrier/formation-bafa-approfondissement-handicap-vacances-daout/
LOCATION:FOL KARI VEO – Centre ville Nouméa
ATTACH;FMTTYPE=image/jpeg:https://fol.nc/wp-content/uploads/2022/08/volontariat-et-service-civique.jpg
ORGANIZER;CN="FOL NC":MAILTO:secretariat@folnc.nc
END:VEVENT
BEGIN:VEVENT
DTSTART;TZID=UTC:20250824T103000
DTEND;TZID=UTC:20250824T180000
DTSTAMP:20260422T195854
CREATED:20250815T033606Z
LAST-MODIFIED:20250815T042202Z
UID:35564-1756031400-1756058400@fol.nc
SUMMARY:REPAS PARTAGE à la FOL Kari Veo le 24/08/2025 !
DESCRIPTION:Une journée de partage\, de joie\, de bonne humeur tous ensemble avec Cuisine Calédonienne ! \nPréparez-vous pour un événement exceptionnel le dimanche 24 août de 10h30 à 18h au magnifique site de Kari Veo à la FOL NC ! \n  \nManatea Kiaora de Cuisine Calédonienne \, en partenariat avec Thibaut Bizien de Caledoclean et la FOL- NC \, vous invite à une journée conviviale et solidaire Le Pique-Nique du Partage 2eme Édition \nVenez passer un moment inoubliable avec une vue panoramique époustouflante sur Nouméa \, et terminez la journée en beauté avec un coucher de soleil magique . \n  \nAu programme : musique et saveurs \n* Côté musique\, l’ambiance sera au rendez-vous avec le groupe Tahitien Pakahua \, le groupe Fijien Veitacini \, le talentueux Florent Moro \, de la musique envoûtante et la voix sublime de la chanteuse Esther Trepua Wamejo \n* Côté cuisine \, vos papilles vont voyager ! \nLes grands chefs Gaby Levionnois de Uma Kitchen- Pacific Food TV et Alphonse Ishice Koce seront présents \, sans oublier la formidable Betty Levanque qui nous fera des nems chauds ! \n  \nPartage et solidarité \n* N’oubliez pas d’apporter votre natte pour vous installer confortablement ! \n* Le principe est simple : amenez des plats préparés de toutes ethnies confondues pour les partager avec tout le monde et quelque chose à boire également si vous le souhaitez \, le tout dans un esprit de pique-nique géant ! \nMême si vous n’avez rien à amener\, ce n’est pas un problème\, venez profiter de la vue\, de la musique et des plats qui seront a partager. \n* Un espace sera également dédié à la collecte de denrées alimentaires au profit de La Banque Alimentaire de Nouvelle-Calédonie « La BANC » . \n  \nC’est l’occasion de faire une bonne action ! \n  \nCôté interdictions: \nL’alcool et nos amis les animaux ne seront pas acceptés sur le site de Kari Veo ; merci de votre compréhension \n  \nOn vous attend nombreux pour cette journée festive\, gourmande et solidaire ! \nEntrée gratuite \n  \nhttps://fr-fr.facebook.com/people/FOL-NC/100064073433744/ \n  \n 
URL:https://fol.nc/calendrier/repas-partage-a-kari-veo/
LOCATION:FOL KARI VEO\, 51 rue du Pasteur Ariège\, centre-ville Nouméa
ATTACH;FMTTYPE=image/jpeg:https://fol.nc/wp-content/uploads/2024/07/DSC_0442-scaled.jpg
END:VEVENT
BEGIN:VEVENT
DTSTART;TZID=UTC:20250828T180000
DTEND;TZID=UTC:20250828T193000
DTSTAMP:20260422T195854
CREATED:20250815T043041Z
LAST-MODIFIED:20250815T043955Z
UID:35572-1756404000-1756409400@fol.nc
SUMMARY:PROJECTION - DEBAT : association Ciné Citoyen
DESCRIPTION:Ciné Citoyen\, association affiliée à la FOL NC\, organise une soirée projection – Débat en partenariat avec la FOL NC sur le thème des Aidants avec la projection de « Les aidants\, il est temps de les aider »\, un documentaire de Frédéric Saint-Simon pour France TV (2024\, 57min). \nSynopsis : \nÀ l’occasion de la journée nationale dédiée aux aidants\, le comédien Bruno Solo a accompagné pendant 48 heures Thierry\, un père de famille atteint de la maladie de Charcot\, maladie neurodégénérative qui entraîne une paralysie progressive de tout le corps. L’acteur a ainsi offert une pause de deux jours à Loriane\, la compagne de Thierry\, découvrant à cette occasion \ntoute la charge mentale et physique de cet accompagnement au quotidien. \nSelon les chiffres du Ministère de la Santé\, en France 8 à 11 millions de personnes accompagnent des proches malades\, en situation de handicap ou en perte d’autonomie. \n  \nL’association Ciné Citoyen a pour objet d’informer\, d’expliquer\, de faire réfléchir et débattre sur diverses problématiques de société (environnementales\, économiques\, culturelles\, sociales). \nLa projection du documentaire « Les aidants\, il est temps de les aider » sera suivie d’un débat entre spécialistes et aidants invités pour l’occasion et nos membres dans la salle. \nEntrée libre et gratuite. \n 
URL:https://fol.nc/calendrier/projection-debat-association-cine-citoyen/
LOCATION:FOL KARI VEO\, 51 rue du Pasteur Ariège\, centre-ville Nouméa
ATTACH;FMTTYPE=application/pdf:https://fol.nc/wp-content/uploads/2025/08/2-Affiche-Les-aidants-1.pdf
END:VEVENT
END:VCALENDAR