BEGIN:VCALENDAR
VERSION:2.0
PRODID:-//FOL NC - ECPv6.15.20//NONSGML v1.0//EN
CALSCALE:GREGORIAN
METHOD:PUBLISH
X-WR-CALNAME:FOL NC
X-ORIGINAL-URL:https://fol.nc
X-WR-CALDESC:Évènements pour FOL NC
REFRESH-INTERVAL;VALUE=DURATION:PT1H
X-Robots-Tag:noindex
X-PUBLISHED-TTL:PT1H
BEGIN:VTIMEZONE
TZID:UTC
BEGIN:STANDARD
TZOFFSETFROM:+0000
TZOFFSETTO:+0000
TZNAME:UTC
DTSTART:20240101T000000
END:STANDARD
END:VTIMEZONE
BEGIN:VEVENT
DTSTART;TZID=UTC:20251022T140000
DTEND;TZID=UTC:20251210T150000
DTSTAMP:20260422T151753
CREATED:20251009T063136Z
LAST-MODIFIED:20251009T063136Z
UID:35683-1761141600-1765378800@fol.nc
SUMMARY:ATELIER "MOUV en DUO" ZUMBA pour tous
DESCRIPTION:  \nNouveauté !  \nLa FOL en partenariat avec Handijob organise dès le 22 octobre 2025 des ateliers Zumba « Mouv’en DUO » à la FOL KARI VEO. \n  \nPourquoi ? \nParticiper à l’accès de tous à la pratique d’une activité sportive\, physique et de bien-être\, tout en favorisant l’inclusion. \n  \nQuoi ?  \nLa Zumba mêle des exercices cardio à des mouvements de danse\, offrant une expérience à la fois ludique et engageante.  \nLes cours sont pensés pour être divertissants et accessibles\, indépendamment du niveau de danse ou de capacités motrices des participants. \nGrâce à des chorégraphies simples et répétitives\, les participants se divertissent tout en faisant de l’exercice\, sans se soucier de la complexité des mouvements. \nLa Zumba est accessible à tous et peut aussi se pratiquer assis (personnes à mobilité réduite). Elle est appréciée pour ses aspects sportifs\, ludiques et artistiques.  \nLes exercices physiques mêlent les éléments joyeux et rythmés à des mouvements et des ajustements adaptés à chaque individu. \nSes avantages sont la remise en forme des participants\, l’amélioration de la santé cardiovasculaire\, de la coordination et de la force musculaire.  \nElle favorise également l’épanouissement\, la confiance en soi\, l’expression corporelle et la convivialité au sein du groupe. \n  \nPour qui ? \nLes adultes valide et en situation de handicap / Inscription uniquement en DUO (1 valide/1 handicap) \n  \nQuand ? \nLes mercredis 22/10\, 19/11 et 10/12/2025 de 14h à 15h. \n  \nOù ? \nDans l’Espace pluriel de la FOL kari Veo\, 51 rue du Pasteur Ariège\, Centre-Ville Nouméa. \n  \nTarif ? \n1000F/DUO soit 500F/ personne par atelier (+ adhésion individuelle au 1er atelier pour l’assurance) \n  \nInscription ? \n\nAu secrétariat de la FOL KARI VEO aux horaires d’ouverture\nPar mail à secretariat@folnc.nc\n\nInscription validée uniquement par retour de mail une fois le dossier complet et le règlement) \nLes documents à fournir : 1 Fiche d’inscription + 1 Questionnaire de santé \nPossibilité de s’inscrire sur une ou plusieurs dates d’ateliers (au choix). \n  \nPlus d’infos : secretariat@folnc.nc  ou par téléphone au 27 21 40.
URL:https://fol.nc/calendrier/atelier-mouv-en-duo-zumba-pour-tous/
LOCATION:FOL KARI VEO\, 51 rue du Pasteur Ariège\, centre-ville Nouméa
ATTACH;FMTTYPE=image/png:https://fol.nc/wp-content/uploads/2025/10/Affiche-Zumba.png
END:VEVENT
BEGIN:VEVENT
DTSTART;TZID=UTC:20251113T080000
DTEND;TZID=UTC:20251114T170000
DTSTAMP:20260422T151753
CREATED:20250908T000231Z
LAST-MODIFIED:20250908T000404Z
UID:35586-1763020800-1763139600@fol.nc
SUMMARY:Se former à l'accueil des publics en situation de handicap
DESCRIPTION:La FOL NC organise les jeudi 13 et vendredi 14/11/2025 dans ses locaux à Nouméa\, une action de formation professionnelle continue intitulée : \n« Assurer l’accueil des personnes en situation de handicap avec professionnalisme et bienveillance ». \n  \nLes inscriptions sont ouvertes (signature d’une convention de formation professionnelle continue). \nPour toutes demandes ou questions : a.omar@folnc.nc ou par téléphone au 79 53 01. \n 
URL:https://fol.nc/calendrier/se-former-a-laccueil-des-publics-en-situation-de-handicap/
LOCATION:Fédération des Oeuvres Laiques – KARI VEO
ATTACH;FMTTYPE=application/pdf:https://fol.nc/wp-content/uploads/2025/09/Formation-FOL-NC-Accueil-des-personnes-en-situation-de-handicap-11.2025-1.pdf
END:VEVENT
BEGIN:VEVENT
DTSTART;TZID=UTC:20251121T093000
DTEND;TZID=UTC:20251121T183000
DTSTAMP:20260422T151753
CREATED:20251013T060836Z
LAST-MODIFIED:20251013T060836Z
UID:35711-1763717400-1763749800@fol.nc
SUMMARY:4ème Forum des soins palliatifs
DESCRIPTION:La FOL NC accueille le vendredi 21/11/2025 le 4ème Forum des soins palliatifs en partenariat avec ses associations membres affiliés. \n 
URL:https://fol.nc/calendrier/4eme-forum-des-soins-palliatifs/
LOCATION:FOL KARI VEO\, 51 rue du Pasteur Ariège\, centre-ville Nouméa
ATTACH;FMTTYPE=image/jpeg:https://fol.nc/wp-content/uploads/2025/10/forum-soins-palliatifs-prog-1.jpg
END:VEVENT
END:VCALENDAR